BEGIN:VCALENDAR
VERSION:2.0
PRODID:-//The Hills at Charlesworth HOA - ECPv6.15.18//NONSGML v1.0//EN
CALSCALE:GREGORIAN
METHOD:PUBLISH
X-WR-CALNAME:The Hills at Charlesworth HOA
X-ORIGINAL-URL:https://hillsatcharlesworth.com
X-WR-CALDESC:Events for The Hills at Charlesworth HOA
REFRESH-INTERVAL;VALUE=DURATION:PT1H
X-Robots-Tag:noindex
X-PUBLISHED-TTL:PT1H
BEGIN:VTIMEZONE
TZID:America/Yellowknife
BEGIN:DAYLIGHT
TZOFFSETFROM:-0700
TZOFFSETTO:-0600
TZNAME:MDT
DTSTART:20250309T090000
END:DAYLIGHT
BEGIN:STANDARD
TZOFFSETFROM:-0600
TZOFFSETTO:-0700
TZNAME:MST
DTSTART:20251102T080000
END:STANDARD
BEGIN:DAYLIGHT
TZOFFSETFROM:-0700
TZOFFSETTO:-0600
TZNAME:MDT
DTSTART:20260308T090000
END:DAYLIGHT
BEGIN:STANDARD
TZOFFSETFROM:-0600
TZOFFSETTO:-0700
TZNAME:MST
DTSTART:20261101T080000
END:STANDARD
BEGIN:DAYLIGHT
TZOFFSETFROM:-0700
TZOFFSETTO:-0600
TZNAME:MDT
DTSTART:20270314T090000
END:DAYLIGHT
BEGIN:STANDARD
TZOFFSETFROM:-0600
TZOFFSETTO:-0700
TZNAME:MST
DTSTART:20271107T080000
END:STANDARD
END:VTIMEZONE
BEGIN:VEVENT
DTSTART;VALUE=DATE:20260523
DTEND;VALUE=DATE:20260524
DTSTAMP:20260423T053236
CREATED:20260116T181332Z
LAST-MODIFIED:20260116T181332Z
UID:1117-1779494400-1779580799@hillsatcharlesworth.com
SUMMARY:Save the Date - Community Clean up
DESCRIPTION:Join us for a Community Clean Up Event in May! \n \nMore information to come!
URL:https://hillsatcharlesworth.com/event/save-the-date-community-clean-up/
LOCATION:The Hills at Charlesworth\, 345 Charlesworth Drive SW\, Edmonton\, Alberta\, Canada
END:VEVENT
BEGIN:VEVENT
DTSTART;VALUE=DATE:20260627
DTEND;VALUE=DATE:20260628
DTSTAMP:20260423T053236
CREATED:20260116T182053Z
LAST-MODIFIED:20260116T182507Z
UID:1119-1782518400-1782604799@hillsatcharlesworth.com
SUMMARY:Save the Date - Annual Funathon!
DESCRIPTION:Join us for the annual Hills at Charlesworth Funathon Fitness Event! \n \nMore information to come!
URL:https://hillsatcharlesworth.com/event/save-the-date-annual-funathon/
LOCATION:The Hills at Charlesworth\, 345 Charlesworth Drive SW\, Edmonton\, Alberta\, Canada
END:VEVENT
BEGIN:VEVENT
DTSTART;VALUE=DATE:20260829
DTEND;VALUE=DATE:20260830
DTSTAMP:20260423T053236
CREATED:20260116T182642Z
LAST-MODIFIED:20260116T182642Z
UID:1122-1787961600-1788047999@hillsatcharlesworth.com
SUMMARY:Save the Date - Movie Night!
DESCRIPTION:Join us for the annual Hills at Charlesworth Movie Night in the Parkt! \n \nMore information to come!
URL:https://hillsatcharlesworth.com/event/save-the-date-movie-night/
LOCATION:The Hills at Charlesworth\, 345 Charlesworth Drive SW\, Edmonton\, Alberta\, Canada
END:VEVENT
BEGIN:VEVENT
DTSTART;VALUE=DATE:20261017
DTEND;VALUE=DATE:20261018
DTSTAMP:20260423T053236
CREATED:20260116T183114Z
LAST-MODIFIED:20260116T183114Z
UID:1125-1792195200-1792281599@hillsatcharlesworth.com
SUMMARY:Save the Date - Fall / Halloween Event!
DESCRIPTION:Join us for the annual Hills at Charlesworth for a fun Halloween Themed Family Event \n \nMore information to come!
URL:https://hillsatcharlesworth.com/event/save-the-date-fall-halloween-event/
LOCATION:The Hills at Charlesworth\, 345 Charlesworth Drive SW\, Edmonton\, Alberta\, Canada
END:VEVENT
BEGIN:VEVENT
DTSTART;VALUE=DATE:20261115
DTEND;VALUE=DATE:20261201
DTSTAMP:20260423T053236
CREATED:20260116T183514Z
LAST-MODIFIED:20260116T183514Z
UID:1127-1794700800-1796083199@hillsatcharlesworth.com
SUMMARY:Save the Date - Winter / Christmas Event
DESCRIPTION:Join us for a Winter Holiday Theme Event! \n \n \nMore information to come!
URL:https://hillsatcharlesworth.com/event/save-the-date-winter-christmas-event/
LOCATION:The Hills at Charlesworth\, 345 Charlesworth Drive SW\, Edmonton\, Alberta\, Canada
END:VEVENT
END:VCALENDAR