BEGIN:VCALENDAR
VERSION:2.0
PRODID:-//The Hills at Charlesworth HOA - ECPv6.15.18//NONSGML v1.0//EN
CALSCALE:GREGORIAN
METHOD:PUBLISH
X-WR-CALNAME:The Hills at Charlesworth HOA
X-ORIGINAL-URL:https://hillsatcharlesworth.com
X-WR-CALDESC:Events for The Hills at Charlesworth HOA
REFRESH-INTERVAL;VALUE=DURATION:PT1H
X-Robots-Tag:noindex
X-PUBLISHED-TTL:PT1H
BEGIN:VTIMEZONE
TZID:America/Yellowknife
BEGIN:DAYLIGHT
TZOFFSETFROM:-0700
TZOFFSETTO:-0600
TZNAME:MDT
DTSTART:20240310T090000
END:DAYLIGHT
BEGIN:STANDARD
TZOFFSETFROM:-0600
TZOFFSETTO:-0700
TZNAME:MST
DTSTART:20241103T080000
END:STANDARD
BEGIN:DAYLIGHT
TZOFFSETFROM:-0700
TZOFFSETTO:-0600
TZNAME:MDT
DTSTART:20250309T090000
END:DAYLIGHT
BEGIN:STANDARD
TZOFFSETFROM:-0600
TZOFFSETTO:-0700
TZNAME:MST
DTSTART:20251102T080000
END:STANDARD
BEGIN:DAYLIGHT
TZOFFSETFROM:-0700
TZOFFSETTO:-0600
TZNAME:MDT
DTSTART:20260308T090000
END:DAYLIGHT
BEGIN:STANDARD
TZOFFSETFROM:-0600
TZOFFSETTO:-0700
TZNAME:MST
DTSTART:20261101T080000
END:STANDARD
END:VTIMEZONE
BEGIN:VEVENT
DTSTART;TZID=America/Yellowknife:20251025T120000
DTEND;TZID=America/Yellowknife:20251025T150000
DTSTAMP:20260423T173226
CREATED:20251016T185920Z
LAST-MODIFIED:20251106T223057Z
UID:971-1761393600-1761404400@hillsatcharlesworth.com
SUMMARY:HALLOWEEN BLOCK PARTY!
DESCRIPTION:HALLOWEEN BLOCK PARTY! \nJoin us on October 25 from noon to 3PM\n\nMore info to come
URL:https://hillsatcharlesworth.com/event/halloween-block-party/
LOCATION:The Hills at Charlesworth\, 345 Charlesworth Drive SW\, Edmonton\, Alberta\, Canada
END:VEVENT
BEGIN:VEVENT
DTSTART;TZID=America/Yellowknife:20251001T183000
DTEND;TZID=America/Yellowknife:20251001T203000
DTSTAMP:20260423T173226
CREATED:20250724T202941Z
LAST-MODIFIED:20250724T203012Z
UID:879-1759343400-1759350600@hillsatcharlesworth.com
SUMMARY:The Hills at Charlesworth Homeowners Association Annual General Meeting - SAVE THE DATE
DESCRIPTION:
URL:https://hillsatcharlesworth.com/event/the-hills-at-charlesworth-homeowners-association-annual-general-meeting/
LOCATION:Shauna May Seneca School\, 2130 Wonnacott Way SW\, Edmonton\, Alberta\, T6X 2H9\, Canada
ORGANIZER;CN="Core Real Estate Group":MAILTO:info@coremanagement.ca
END:VEVENT
BEGIN:VEVENT
DTSTART;TZID=America/Yellowknife:20250920T203000
DTEND;TZID=America/Yellowknife:20250920T223000
DTSTAMP:20260423T173226
CREATED:20250902T185809Z
LAST-MODIFIED:20250915T171111Z
UID:935-1758400200-1758407400@hillsatcharlesworth.com
SUMMARY:Hills at Charlesworth HOA Movie Night
DESCRIPTION:COME JOIN US FOR MOVIE NIGHT! \nBring your family to watch Big Hero 6 \nSee the attached poster to register and select the treat of your choice.  Remember to bring your own chairs and blankets \n \n 
URL:https://hillsatcharlesworth.com/event/hills-at-charlesworth-hoa-movie-night/
LOCATION:The Hills at Charlesworth\, 345 Charlesworth Drive SW\, Edmonton\, Alberta\, Canada
END:VEVENT
BEGIN:VEVENT
DTSTART;VALUE=DATE:20250701
DTEND;VALUE=DATE:20250702
DTSTAMP:20260423T173226
CREATED:20250724T202026Z
LAST-MODIFIED:20250724T202026Z
UID:877-1751328000-1751414399@hillsatcharlesworth.com
SUMMARY:Canada Day
DESCRIPTION:
URL:https://hillsatcharlesworth.com/event/canada-day/
LOCATION:Alberta
END:VEVENT
BEGIN:VEVENT
DTSTART;TZID=America/Yellowknife:20250621T080000
DTEND;TZID=America/Yellowknife:20250621T120000
DTSTAMP:20260423T173226
CREATED:20250724T201906Z
LAST-MODIFIED:20250724T201906Z
UID:873-1750492800-1750507200@hillsatcharlesworth.com
SUMMARY:The Hills at Charlesworth Funathon!
DESCRIPTION:
URL:https://hillsatcharlesworth.com/event/the-hills-at-charlesworth-funathon/
LOCATION:The Hills at Charlesworth\, 345 Charlesworth Drive SW\, Edmonton\, Alberta\, Canada
END:VEVENT
END:VCALENDAR