BEGIN:VCALENDAR
VERSION:2.0
PRODID:-//The Hills at Charlesworth HOA - ECPv6.15.18//NONSGML v1.0//EN
CALSCALE:GREGORIAN
METHOD:PUBLISH
X-ORIGINAL-URL:https://hillsatcharlesworth.com
X-WR-CALDESC:Events for The Hills at Charlesworth HOA
REFRESH-INTERVAL;VALUE=DURATION:PT1H
X-Robots-Tag:noindex
X-PUBLISHED-TTL:PT1H
BEGIN:VTIMEZONE
TZID:America/Yellowknife
BEGIN:DAYLIGHT
TZOFFSETFROM:-0700
TZOFFSETTO:-0600
TZNAME:MDT
DTSTART:20240310T090000
END:DAYLIGHT
BEGIN:STANDARD
TZOFFSETFROM:-0600
TZOFFSETTO:-0700
TZNAME:MST
DTSTART:20241103T080000
END:STANDARD
BEGIN:DAYLIGHT
TZOFFSETFROM:-0700
TZOFFSETTO:-0600
TZNAME:MDT
DTSTART:20250309T090000
END:DAYLIGHT
BEGIN:STANDARD
TZOFFSETFROM:-0600
TZOFFSETTO:-0700
TZNAME:MST
DTSTART:20251102T080000
END:STANDARD
BEGIN:DAYLIGHT
TZOFFSETFROM:-0700
TZOFFSETTO:-0600
TZNAME:MDT
DTSTART:20260308T090000
END:DAYLIGHT
BEGIN:STANDARD
TZOFFSETFROM:-0600
TZOFFSETTO:-0700
TZNAME:MST
DTSTART:20261101T080000
END:STANDARD
BEGIN:DAYLIGHT
TZOFFSETFROM:-0700
TZOFFSETTO:-0600
TZNAME:MDT
DTSTART:20270314T090000
END:DAYLIGHT
BEGIN:STANDARD
TZOFFSETFROM:-0600
TZOFFSETTO:-0700
TZNAME:MST
DTSTART:20271107T080000
END:STANDARD
END:VTIMEZONE
BEGIN:VEVENT
DTSTART;TZID=America/Yellowknife:20251203T080000
DTEND;TZID=America/Yellowknife:20260131T170000
DTSTAMP:20260419T030649
CREATED:20251203T174639Z
LAST-MODIFIED:20251203T174639Z
UID:1102-1764748800-1769878800@hillsatcharlesworth.com
SUMMARY:Annual Fee Due January 31st
DESCRIPTION:2026_Budget_Letter Hills at Charlesworth HOA \n  \nThe Hills at Charlesworth Homeowner’s Association  \nAssociation Fee – Effective January 1\, 2026 \nWe are pleased to enclose a copy of the 2026 operating budget for The Hills at Charlesworth Homeowner’s Association (the ‘Association’). The Board of Directors has discussed and analyzed the expenses and financial obligations of the Association for the upcoming fiscal year. Through this analysis\, the board has approved a balanced budget with no increase in HOA fees for members. The Annual fee is mandatory for all households in the community. \nThe Hills at Charlesworth Homeowner’s Association (HOA) is a non-profit organization. As a property owner in The Hills at Charlesworth\, you are automatically a member. Although the HOA does not own any of the infrastructure in the community\, it is responsible for managing and maintaining aspects of the community for the benefit of the residents. This includes the management of a custom rain arbor system including a 500-gallon cistern\, the Community Gardens\, and a 200m Ice Ribbon. The HOA maintains an enhanced landscaping program that addresses specific common areas\, green spaces\, entrance features and medians. \nThe Hills at Charlesworth is a vibrant family friendly community that provides fun-filled events throughout the year. Stay informed about upcoming events by visiting https://hillsatcharlesworth.com/events/ \nAdditionally\, the Hills at Charlesworth HOA is fortunate to have access to a community garden. Plots are available on a first come- first served basis and applications for the 2026 season will open in March. Please watch your emails in early 2026 and check the website at https://hillsatcharlesworth.com/homepage/community-gardens/ for more info. \n TO ACCESS YOUR PERSONALIZED INVOICE\, PLEASE LOG IN TO THE ONLINE PORTAL OR TO RECEIVE YOUR INVOICE VIA MAIL OR EMAIL\, CONTACT CORE MANAGEMENT AT info@coremanagement.ca.  \nPayments can be made online (see steps below)\, via telepay or by cheque.  \nPayments are due January 31st\, 2026.  \nTo pay your invoice online\, go to https://central.ivrnet.com/hillsatcharlesworth\, click on “Log in” and enter the email address we have for you on file and your password. If you are unsure of your login credentials\, please contact info@coremanagement.ca or call 780-651-1577. \n*Please note\, if fees are owing for prior years\, you will not be able to log in. Please contact Core for assistance. \nWarmest Regards\, \nThe Hills at Charlesworth Homeowner’s Association \nBoard of Directors
URL:https://hillsatcharlesworth.com/event/annual-fee-due-january-31st/
LOCATION:Alberta
END:VEVENT
END:VCALENDAR